BEGIN:VCALENDAR
VERSION:2.0
PRODID:-//OVV Isen - ECPv6.15.20//NONSGML v1.0//EN
CALSCALE:GREGORIAN
METHOD:PUBLISH
X-ORIGINAL-URL:https://ovv-isen.de
X-WR-CALDESC:Veranstaltungen für OVV Isen
REFRESH-INTERVAL;VALUE=DURATION:PT1H
X-Robots-Tag:noindex
X-PUBLISHED-TTL:PT1H
BEGIN:VTIMEZONE
TZID:Europe/Berlin
BEGIN:DAYLIGHT
TZOFFSETFROM:+0100
TZOFFSETTO:+0200
TZNAME:CEST
DTSTART:20220327T010000
END:DAYLIGHT
BEGIN:STANDARD
TZOFFSETFROM:+0200
TZOFFSETTO:+0100
TZNAME:CET
DTSTART:20221030T010000
END:STANDARD
BEGIN:DAYLIGHT
TZOFFSETFROM:+0100
TZOFFSETTO:+0200
TZNAME:CEST
DTSTART:20230326T010000
END:DAYLIGHT
BEGIN:STANDARD
TZOFFSETFROM:+0200
TZOFFSETTO:+0100
TZNAME:CET
DTSTART:20231029T010000
END:STANDARD
BEGIN:DAYLIGHT
TZOFFSETFROM:+0100
TZOFFSETTO:+0200
TZNAME:CEST
DTSTART:20240331T010000
END:DAYLIGHT
BEGIN:STANDARD
TZOFFSETFROM:+0200
TZOFFSETTO:+0100
TZNAME:CET
DTSTART:20241027T010000
END:STANDARD
END:VTIMEZONE
BEGIN:VEVENT
DTSTART;TZID=Europe/Berlin:20230905T180000
DTEND;TZID=Europe/Berlin:20230905T210000
DTSTAMP:20260423T012407
CREATED:20230318T120033Z
LAST-MODIFIED:20230327T061636Z
UID:1717-1693936800-1693947600@ovv-isen.de
SUMMARY:Selbstgemachte Fackeln
DESCRIPTION:Im Rahmen des Ferienprogramm Isen \nAnmeldungen hier oder an jungendgruppe@ovv-isen.de
URL:https://ovv-isen.de/veranstaltung/selbstgemachte-fackeln/
CATEGORIES:Jugendgruppe
ATTACH;FMTTYPE=image/jpeg:https://ovv-isen.de/wp-content/uploads/2023/01/Fackeln2.jpg
ORGANIZER;CN="Sophia Hartong":MAILTO:jugendgruppe@ovv-isen.de
END:VEVENT
END:VCALENDAR